BEGIN:VCALENDAR
VERSION:2.0
PRODID:-//JSB Entertainment - ECPv6.15.20//NONSGML v1.0//EN
CALSCALE:GREGORIAN
METHOD:PUBLISH
X-ORIGINAL-URL:https://jsbent.co.uk
X-WR-CALDESC:Events for JSB Entertainment
REFRESH-INTERVAL;VALUE=DURATION:PT1H
X-Robots-Tag:noindex
X-PUBLISHED-TTL:PT1H
BEGIN:VTIMEZONE
TZID:UTC
BEGIN:STANDARD
TZOFFSETFROM:+0000
TZOFFSETTO:+0000
TZNAME:UTC
DTSTART:20230101T000000
END:STANDARD
END:VTIMEZONE
BEGIN:VEVENT
DTSTART;TZID=UTC:20241118T190000
DTEND;TZID=UTC:20241118T230000
DTSTAMP:20260420T113526
CREATED:20241117T200416Z
LAST-MODIFIED:20241117T200816Z
UID:27702-1731956400-1731970800@jsbent.co.uk
SUMMARY:Valiant
DESCRIPTION:Live Nation Caribbean Rocks Presents Valiant Performing Live In Manchester!
URL:https://jsbent.co.uk/event/valiant/
LOCATION:New Century\, 34 Hanover Street\, Manchester\, M4 4AH\, United Kingdom
CATEGORIES:DJ / Artist Show,Must Attend
ATTACH;FMTTYPE=image/avif:https://jsbent.co.uk/wp-content/uploads/2024/11/32bd620e-eef3-4d5e-b904-9a22259199ba.avif
END:VEVENT
BEGIN:VEVENT
DTSTART;TZID=UTC:20241117T080000
DTEND;TZID=UTC:20241117T170000
DTSTAMP:20260420T113526
CREATED:20241117T201328Z
LAST-MODIFIED:20241117T201328Z
UID:27715-1731830400-1731862800@jsbent.co.uk
SUMMARY:Create & Connect
DESCRIPTION:Creative networking event with industry professional panelist\, live performances\, networking time\, a DJ & time to connect with all creatives.
URL:https://jsbent.co.uk/event/create-connect/
LOCATION:On The Hush\, 24 Church Street\, Manchester\, M4 1PN\, United Kingdom
CATEGORIES:DJ / Artist Show
ATTACH;FMTTYPE=image/jpeg:https://jsbent.co.uk/wp-content/uploads/2024/11/https-cdn.evbuc_.com-images-893302183-2325616763263-1-original.20241106-190411.jpeg
END:VEVENT
BEGIN:VEVENT
DTSTART;TZID=UTC:20241116T220000
DTEND;TZID=UTC:20241117T040000
DTSTAMP:20260420T113526
CREATED:20241109T212204Z
LAST-MODIFIED:20241109T212204Z
UID:27686-1731794400-1731816000@jsbent.co.uk
SUMMARY:One Night With Falz
DESCRIPTION:Falz (real name Folarin Falana)\, is a Nigerian award winning rapper\, singer\, songwriter\, actor and entertainer. With millions of fans and listeners across the globe and with sustained momentum from his recently released EP ; Before The Feast \, Falz sets out on a voyage to connect with some of his most loyal fans. One Night with Falz is a night of ballads and hip-hop heritage\, a night to experience the multiple personas of Falz\, a night of singing and merry making… a night of intimacy with the Bahdguy. One Night With Falz… An intimate experience.
URL:https://jsbent.co.uk/event/one-night-with-falz/
LOCATION:BLVD\, The Avenue\, North\, Manchester\, M3 3BZ\, United Kingdom
CATEGORIES:DJ / Artist Show,Must Attend
ATTACH;FMTTYPE=image/avif:https://jsbent.co.uk/wp-content/uploads/2024/11/W1siZiIsInB1YmxpYy8yMDI0LzEwLzIzLzE4LzEvMzEvMjIxLzllYTgwNGJiLTc5NWEtNDUwOS05MDAzLWUyYTkzYTRlMDkwMy5qcGVnIl1d.avif
END:VEVENT
BEGIN:VEVENT
DTSTART;TZID=UTC:20241116T220000
DTEND;TZID=UTC:20241117T023000
DTSTAMP:20260420T113526
CREATED:20241109T211958Z
LAST-MODIFIED:20241109T211958Z
UID:27683-1731794400-1731810600@jsbent.co.uk
SUMMARY:LAGOS PARTY with DJ CHICKEN
DESCRIPTION:Welcome to the ultimate LAGOS PARTY in Manchester! Get ready to groove all night long with the one and only DJ CHICKEN live at Eagle Restaurant and Bar. Join us on **Sat Nov 16\, 2024** at **10:00 PM** for a night filled with amazing music\, great vibes\, and non-stop dancing. Don’t miss out on this epic event that will have you moving your feet until the early hours of the morning. See you there!
URL:https://jsbent.co.uk/event/lagos-party-with-dj-chicken/
LOCATION:Eagle Restaurant & Bar\, 310 Deansgate\, Manchester\, M3 4HE\, United Kingdom
CATEGORIES:DJ / Artist Show,Must Attend
ATTACH;FMTTYPE=image/png:https://jsbent.co.uk/wp-content/uploads/2024/11/LAGOS.png
END:VEVENT
BEGIN:VEVENT
DTSTART;TZID=UTC:20241115T210000
DTEND;TZID=UTC:20241116T023000
DTSTAMP:20260420T113526
CREATED:20241109T212618Z
LAST-MODIFIED:20241109T212618Z
UID:27690-1731704400-1731724200@jsbent.co.uk
SUMMARY:RETRO FRIDAYS With TERRY G
DESCRIPTION:It’s Retro Fridays at Eagle Manchester and we’ve got the incredible Akpako master coming thru live for this one! Ladies and Gentlemen\, the talented TERRY G will be performing live on Friday\, the 15th of November\, 2024. You don’t want to miss it\, get ready to party and vibe all night long! Get your tickets NOW!!!!!
URL:https://jsbent.co.uk/event/retro-fridays-with-terry-g/
LOCATION:Eagle Restaurant & Bar\, 310 Deansgate\, Manchester\, M3 4HE\, United Kingdom
CATEGORIES:DJ / Artist Show,Must Attend
ATTACH;FMTTYPE=image/png:https://jsbent.co.uk/wp-content/uploads/2024/11/RETRO-TERRY.png
END:VEVENT
BEGIN:VEVENT
DTSTART;TZID=UTC:20241113T190000
DTEND;TZID=UTC:20241113T230000
DTSTAMP:20260420T113526
CREATED:20241109T211222Z
LAST-MODIFIED:20241109T211222Z
UID:27671-1731524400-1731538800@jsbent.co.uk
SUMMARY:Childish Gambino's 'Awaken\, My Love!' with Dreamflower Collective
DESCRIPTION:We’re bringing Sheffield’s Dreamflower Collective back after a sold-out show in April\, for an intimate\, orchestral performance of Childish Gambino’s ‘Awaken\, My Love!’. \nExpect a live rendition of all your Childish Gambino favourites from ‘Redbone and ‘Me and Your Mama’ to ‘Terrified’ and ‘Baby Boy’. \nFormed in 2018 through a shared love for jazz\, neo soul\, hip-hop and funk\, Sheffield’s Dreamflower Collective have spent the last few years both writing their own compositions and reworking their favourite music. In their live album re-interpretations\, the \nensemble take a cinematic approach to bring new life to contemporary albums\, with an electrifying mix of solos\, breakdowns and improvisations. \nInfluenced by the likes of Erykah Badu\, Stevie Wonder\, Hiatus Kaiyote and Tom Misch\, expect this show to be roadblock. \nThis event does not feature a performance by Childish Gambino. This event is not in association with Childish Gambino.
URL:https://jsbent.co.uk/event/childish-gambinos-awaken-my-love-with-dreamflower-collective/
LOCATION:The Blues Kitchen Manchester\, 13 Quay Street\, Manchester\, M3 3HN\, United Kingdom
CATEGORIES:DJ / Artist Show,Must Attend
ATTACH;FMTTYPE=image/avif:https://jsbent.co.uk/wp-content/uploads/2024/11/75a2b6bd-7061-429b-a139-2e27df0d5ca6.avif
END:VEVENT
BEGIN:VEVENT
DTSTART;TZID=UTC:20241109T160000
DTEND;TZID=UTC:20241109T220000
DTSTAMP:20260420T113526
CREATED:20241106T211300Z
LAST-MODIFIED:20241106T211300Z
UID:27642-1731168000-1731189600@jsbent.co.uk
SUMMARY:BIEN Live In Manchester - CLUB PA/MEET & GREET
DESCRIPTION:Welcome to BIEN Live In Manchester – CLUB PA/MEET & GREET (DAY EVENT)! Join us on Sat Nov 09 2024 at 16:00 for an unforgettable experience at the Eagle Restaurant and Bar. Get ready to meet and greet your favourite artist and enjoy live performances in a vibrant atmosphere. Don’t miss out on this opportunity to dance\, mingle\, and have a great time with fellow fans. See you there!
URL:https://jsbent.co.uk/event/bien-live-in-manchester-club-pa-meet-greet/
LOCATION:Eagle Restaurant & Bar\, 310 Deansgate\, Manchester\, M3 4HE\, United Kingdom
CATEGORIES:Day Party,DJ / Artist Show,Must Attend
ATTACH;FMTTYPE=image/jpeg:https://jsbent.co.uk/wp-content/uploads/2024/11/WhatsApp-Image-2024-10-30-at-15.01.40.jpeg
END:VEVENT
BEGIN:VEVENT
DTSTART;TZID=UTC:20241108T190000
DTEND;TZID=UTC:20241108T230000
DTSTAMP:20260420T113526
CREATED:20241106T205955Z
LAST-MODIFIED:20241106T210508Z
UID:27626-1731092400-1731106800@jsbent.co.uk
SUMMARY:YO! MTV Raps - NQ Rated: Nemzzz\, 163Margs\, CHy Cartier\, Zeddy East
DESCRIPTION:Greyline & MTV Music Week presents \nYO! MTV Raps – NQ Rated feat. Nemzzz\, 163Margs\, Chy Cartier\, Zeddy East \nFreight Island\, Manchester \n8 November 2024
URL:https://jsbent.co.uk/event/yo-mtv-raps-nq-rated-nemzzz-163margs-chy-cartier-zeddy-east/
LOCATION:Freight Island\, 11 Baring Street\, Manchester\, M1 2PZ\, United Kingdom
CATEGORIES:DJ / Artist Show,Must Attend
ATTACH;FMTTYPE=image/avif:https://jsbent.co.uk/wp-content/uploads/2024/11/MTV.avif
END:VEVENT
BEGIN:VEVENT
DTSTART;TZID=UTC:20241107T190000
DTEND;TZID=UTC:20241107T193000
DTSTAMP:20260420T113526
CREATED:20241106T205004Z
LAST-MODIFIED:20241106T205004Z
UID:27620-1731006000-1731007800@jsbent.co.uk
SUMMARY:THE FACE x New Noise North: Manchester
DESCRIPTION:THE FACE magazine’s New Noise events series is a platform for cutting-edge music. \nOn 7th November\, we’ll host live performances by UK alt-rapper Zino Vinci and rising British-Nigerian artist Deela\, as well as DJ sets from Fixed Abode label head Rainy Miller and Steam Radio resident Nora. \nSign up free here. Entry is first come first served. The event is 18+. Bring photo ID.
URL:https://jsbent.co.uk/event/the-face-x-new-noise-north-manchester/
LOCATION:SOUP\, 31 - 33 Spear Street\, Manchester\, M1 1DF\, United Kingdom
CATEGORIES:DJ / Artist Show
ATTACH;FMTTYPE=image/jpeg:https://jsbent.co.uk/wp-content/uploads/2024/11/https-cdn.evbuc_.com-images-874022479-2274180804393-1-original.20241014-150734.jpeg
END:VEVENT
BEGIN:VEVENT
DTSTART;TZID=UTC:20241102T220000
DTEND;TZID=UTC:20241103T160000
DTSTAMP:20260420T113526
CREATED:20241025T184748Z
LAST-MODIFIED:20241025T184748Z
UID:27593-1730584800-1730649600@jsbent.co.uk
SUMMARY:Piano People Presents: Skyla Tyler
DESCRIPTION:One of the most travelled Amapiano DJ’s this year makes her UK Headline tour debut! \nTalked about as one of the ones to watch by many\, Skyla Tylaa will always put on a show to remember. Make sure you join her this November for a Sky Night to remember!
URL:https://jsbent.co.uk/event/piano-people-presents-skyla-tyler/
LOCATION:Joshua Brooks\, 106 Princess Street\, Manchester\, M1 6NG\, United Kingdom
CATEGORIES:DJ / Artist Show
ATTACH;FMTTYPE=image/png:https://jsbent.co.uk/wp-content/uploads/2024/10/Piano-People.png
END:VEVENT
BEGIN:VEVENT
DTSTART;TZID=UTC:20241102T210000
DTEND;TZID=UTC:20241103T023000
DTSTAMP:20260420T113526
CREATED:20241025T184115Z
LAST-MODIFIED:20241025T184115Z
UID:27586-1730581200-1730601000@jsbent.co.uk
SUMMARY:JAPA WAVE 2 YEARS ANNIVERSARY with DJ YK MULE
DESCRIPTION:🎉 **JapaWave 2 Years Anniversary – The Ultimate Celebration!** 🎉 \nMark your calendars for **Saturday\, 2nd November**\, as we celebrate **JapaWave’s 2-Year Anniversary** in collaboration with **Pie Radio**! It’s going to be an unforgettable night filled with amazing vibes\, incredible music\, and the best crowd in Manchester. \n**Headliner:** \n🔥 **DJ YK Mule** will be setting the stage on fire with his electrifying beats. \n**Supporting DJs:** \n🎧 **DJ Javo** \n🎧 **DJ Bhebo** \n🎧 **Boogs** \nWith a diverse music policy that will have you dancing all night long\, this is the event you don’t want to miss! \n🕘 **Time:** 9 PM till late \n📍 **Venue:** 310 Deansgate\, Manchester\, M3 4HE \nCome through\, bring your energy\, and let’s make history together as we celebrate 2 years of JapaWave! \nFor table bookings and enquiries: \n📲 **@Japawave22** (Snapchat) \n📲 **@Japawave** (Instagram) \nSecure your spot now\, and let’s create memories that will last a lifetime. See you there! 🌊
URL:https://jsbent.co.uk/event/japa-wave-2-years-anniversary-with-dj-yk-mule/
LOCATION:Eagle Restaurant & Bar\, 310 Deansgate\, Manchester\, M3 4HE\, United Kingdom
CATEGORIES:DJ / Artist Show,Must Attend
ATTACH;FMTTYPE=image/jpeg:https://jsbent.co.uk/wp-content/uploads/2024/10/WhatsApp-Image-2024-10-23-at-17.40.10-1.jpeg
END:VEVENT
BEGIN:VEVENT
DTSTART;TZID=UTC:20241029T190000
DTEND;TZID=UTC:20241029T220000
DTSTAMP:20260420T113526
CREATED:20241025T184450Z
LAST-MODIFIED:20241025T184450Z
UID:27589-1730228400-1730239200@jsbent.co.uk
SUMMARY:LEIGH-ANNE
DESCRIPTION:AEG presents Leigh-Anne\n+ Mnelia \nhttps://newcenturymcr.com\nhttps://www.instagram.com/newcenturymcr\nhttps://twitter.com/NCHMCR
URL:https://jsbent.co.uk/event/leigh-anne/
LOCATION:New Century\, 34 Hanover Street\, Manchester\, M4 4AH\, United Kingdom
CATEGORIES:DJ / Artist Show
ATTACH;FMTTYPE=image/png:https://jsbent.co.uk/wp-content/uploads/2024/10/Leigh-Anne.png
END:VEVENT
BEGIN:VEVENT
DTSTART;TZID=UTC:20241025T220000
DTEND;TZID=UTC:20241026T023000
DTSTAMP:20260420T113526
CREATED:20241021T215344Z
LAST-MODIFIED:20241021T215410Z
UID:27567-1729893600-1729909800@jsbent.co.uk
SUMMARY:ICE PRINCE LIVE IN MANCHESTER
DESCRIPTION:ICE PRINCE Live In Manchester! Get ready for a night of amazing music and vibes with ICE PRINCE himself. Join us on Fri\, Oct 25\, 2024 at 22:00 at the Eagle Restaurant and Bar. It’s going to be a night to remember\, filled with great beats and good times. Don’t miss out on this incredible event! \n 
URL:https://jsbent.co.uk/event/ice-prince-live-in-manchester/
LOCATION:Eagle Restaurant & Bar\, 310 Deansgate\, Manchester\, M3 4HE\, United Kingdom
CATEGORIES:DJ / Artist Show,Must Attend
ATTACH;FMTTYPE=image/png:https://jsbent.co.uk/wp-content/uploads/2024/10/ICE-PRINCE-EAGLE-X.png
END:VEVENT
BEGIN:VEVENT
DTSTART;TZID=UTC:20241023T190000
DTEND;TZID=UTC:20241023T233000
DTSTAMP:20260420T113526
CREATED:20241021T214817Z
LAST-MODIFIED:20241021T214817Z
UID:27558-1729710000-1729726200@jsbent.co.uk
SUMMARY:SPINALL
DESCRIPTION:Spinall is one of Africa’s most recognizable and successful DJs. The DJ\, producer and songwriter\, with his signature African cap\, is well known for his large catalogue of hit singles\, his supreme skills on the decks and for collaborations across six studio albums\, He is one of the few Afrobeat DJs to tour Africa\, UK & The United States including performances at Ends\, One Africa\, and Glastonbury festivals
URL:https://jsbent.co.uk/event/spinall/
LOCATION:Band On The Wall\, 25 Swan Street\, The Northern Quarter\, Manchester\, M4 5JZ\, United Kingdom
CATEGORIES:DJ / Artist Show
ATTACH;FMTTYPE=image/png:https://jsbent.co.uk/wp-content/uploads/2024/10/dj-spinall.png
END:VEVENT
BEGIN:VEVENT
DTSTART;TZID=UTC:20241022T220000
DTEND;TZID=UTC:20241023T020000
DTSTAMP:20260420T113526
CREATED:20241021T213804Z
LAST-MODIFIED:20241021T213804Z
UID:27543-1729634400-1729648800@jsbent.co.uk
SUMMARY:GEKO PERFORMING LIVE - MANCHESTER FRESHERS
DESCRIPTION:★★FRESHERS SPECIAL – GEKO PERFORMING LIVE★★\nYOU DON’T WANT TO MISS THIS ONE\, SELL OUT PENDING‼️ \nLive Performances from : \n★★GEKO★★ \n★★DJ DEV★★ \n🗓️Tuesday 22nd October \n📍Revolucion De Cuba Manchester \nLast Entry: 12:00AM \nDrinks Deals and Booths Available on Request🍾 \nTEXT 07480068001 🚨 \n🔞This is an 18+ Event and Physical Government Photo ID is Compulsory \n⛔No Photo ID – No Entry ( Photo of ID on Mobile Phones not valid ) \n💼Strictly No Sportswear\, No Pouches \n✋🏽Management Reserve Right To Refuse Entry \nINFO HOTLINE- 07401107399 \nINSTAGRAM – @TAKEOVEROFFICIALUK
URL:https://jsbent.co.uk/event/geko-performing-live-manchester-freshers/
LOCATION:Revolucion De Cuba Manchester\, 11 Peter Street\, Manchester\, M2 5QR\, United Kingdom
CATEGORIES:DJ / Artist Show
ATTACH;FMTTYPE=image/png:https://jsbent.co.uk/wp-content/uploads/2024/10/Geko.png
END:VEVENT
BEGIN:VEVENT
DTSTART;TZID=UTC:20241022T193000
DTEND;TZID=UTC:20241023T230000
DTSTAMP:20260420T113526
CREATED:20241021T214143Z
LAST-MODIFIED:20241021T214143Z
UID:27548-1729625400-1729724400@jsbent.co.uk
SUMMARY:BOOTER BEE X WEWANTWRAITHS
DESCRIPTION:
URL:https://jsbent.co.uk/event/booter-bee-x-wewantwraiths/
LOCATION:Club Academy\, Oxford Road\, Manchester\, M13 9PR\, United Kingdom
CATEGORIES:DJ / Artist Show
ATTACH;FMTTYPE=image/png:https://jsbent.co.uk/wp-content/uploads/2024/10/booter-Bee.png
END:VEVENT
BEGIN:VEVENT
DTSTART;TZID=UTC:20241005T210000
DTEND;TZID=UTC:20241006T023000
DTSTAMP:20260420T113526
CREATED:20240914T194124Z
LAST-MODIFIED:20240914T194149Z
UID:27474-1728162000-1728181800@jsbent.co.uk
SUMMARY:9ICE LIVE - NIGERIA INDEPENDANCE - 20% DISCOUNT
DESCRIPTION:Get ready for a night of pure 9ICE vibes at the Nigerian Independence Party in Manchester! \nJoin us at the Eagle Restaurant and Bar on Sat\, Oct 05\, 2024 at 9:00 PM for a celebration like no other. \nDance to the best Naija tunes and mingle with fellow party-goers. Don’t miss out on this epic event – mark your calendars now! \n 
URL:https://jsbent.co.uk/event/9ice-live-nigeria-independance-20-discount/
LOCATION:Eagle Restaurant & Bar\, 310 Deansgate\, Manchester\, M3 4HE\, United Kingdom
CATEGORIES:20% Discount,Club,DJ / Artist Show,Must Attend
ATTACH;FMTTYPE=image/png:https://jsbent.co.uk/wp-content/uploads/2024/09/9ICE-manchester-JSB.png
END:VEVENT
BEGIN:VEVENT
DTSTART;TZID=UTC:20240927T220000
DTEND;TZID=UTC:20240928T143000
DTSTAMP:20260420T113526
CREATED:20240901T181739Z
LAST-MODIFIED:20240901T182124Z
UID:27453-1727474400-1727533800@jsbent.co.uk
SUMMARY:VictorAD - 20% Discount
DESCRIPTION:VICTOR AD LIVE IN MANCHESTER \nGet ready for an unforgettable night with Victor AD performing live in Manchester! \nJoin us at the Eagle Restaurant and Bar on Fri Sep 27 2024 at 10:00 PM for a night filled with amazing music and great vibes. \nDon’t miss out on this opportunity to see one of the hottest artists in the industry right now. \nGrab your friends and come party with us! \n 
URL:https://jsbent.co.uk/event/victorad/
LOCATION:Eagle Restaurant & Bar\, 310 Deansgate\, Manchester\, M3 4HE\, United Kingdom
CATEGORIES:20% Discount,DJ / Artist Show,Must Attend
ATTACH;FMTTYPE=image/png:https://jsbent.co.uk/wp-content/uploads/2024/09/VictorAD.png
END:VEVENT
BEGIN:VEVENT
DTSTART;TZID=UTC:20240922T190000
DTEND;TZID=UTC:20240922T230000
DTSTAMP:20260420T113526
CREATED:20240830T135418Z
LAST-MODIFIED:20240831T151249Z
UID:27401-1727031600-1727046000@jsbent.co.uk
SUMMARY:Azalea Banks
DESCRIPTION:KILIMANJARO LIVE PRESENTS \nAzealia Banks \n \n  \n\n  \nTICKETS \n 
URL:https://jsbent.co.uk/event/azalea-banks/
LOCATION:O2 Victoria Warehouse\, Trafford Wharf Road\, Stretford\, Manchester\, M17 1AB\, United Kingdom
CATEGORIES:DJ / Artist Show
ATTACH;FMTTYPE=image/png:https://jsbent.co.uk/wp-content/uploads/2024/08/azealia-banks-1.png
END:VEVENT
BEGIN:VEVENT
DTSTART;TZID=UTC:20240920T213000
DTEND;TZID=UTC:20240921T030000
DTSTAMP:20260420T113526
CREATED:20240830T134358Z
LAST-MODIFIED:20240831T151154Z
UID:27386-1726867800-1726887600@jsbent.co.uk
SUMMARY:Sonny Fodera
DESCRIPTION:Sonny Fodera returns to Manchester + Special Guests. \n \n\n\n \nTICKETS
URL:https://jsbent.co.uk/event/sonny-fodera/
LOCATION:Depot (Mayfield)\, 11 Baring Street\, Manchester\, M1 2PY\, United Kingdom
CATEGORIES:DJ / Artist Show
ATTACH;FMTTYPE=image/jpeg:https://jsbent.co.uk/wp-content/uploads/2024/08/Sonny-Fodera.jpg
END:VEVENT
BEGIN:VEVENT
DTSTART;TZID=UTC:20240920T210000
DTEND;TZID=UTC:20240921T023000
DTSTAMP:20260420T113526
CREATED:20240831T151111Z
LAST-MODIFIED:20240831T151111Z
UID:27410-1726866000-1726885800@jsbent.co.uk
SUMMARY:Last Wave With DJAMES
DESCRIPTION:Join us for an unforgettable night at Last Wave\, hosted by Japawave\, as we take over Eagle Restaurant and Bar in Manchester on September 20th. This is your chance to experience the electrifying sounds of DJames\, our special guest and headliner for the night. \nDJames is a multi-award-winning international DJ\, producer\, curator\, and music editor\, celebrated for his unique ear and ability to blend genres seamlessly. With an impressive track record of collaborations with global superstars like Drake\, Burna Boy\, Asake\, Chris Brown\, and Stefflon Don\, DJames has earned his title as the ‘King of Blends.’ \nHis versatility and skill on the decks have captivated audiences from red carpets to sold-out stadiums\, VIP clubs\, arenas\, and festivals worldwide. Now\, he’s bringing his magic to Manchester for one night only. \nDon’t miss out on Last Wave—an evening of unparalleled music\, vibrant energy\, and an atmosphere that will keep you moving all night long. Secure your spot and be part of this extraordinary event at Eagle Restaurant and Bar. \n \n \n \n\n \nTICKETS
URL:https://jsbent.co.uk/event/last-wave-with-djames/
LOCATION:Eagle Restaurant & Bar\, 310 Deansgate\, Manchester\, M3 4HE\, United Kingdom
CATEGORIES:Club,DJ / Artist Show,Must Attend
ATTACH;FMTTYPE=image/jpeg:https://jsbent.co.uk/wp-content/uploads/2024/08/WhatsApp-Image-2024-08-29-at-17.19.15.jpeg
END:VEVENT
END:VCALENDAR